BEGIN:VCALENDAR
VERSION:2.0
PRODID:-//All-Star Brass Bands - ECPv6.15.19//NONSGML v1.0//EN
CALSCALE:GREGORIAN
METHOD:PUBLISH
X-ORIGINAL-URL:https://www.allstarbrass.org
X-WR-CALDESC:Events for All-Star Brass Bands
REFRESH-INTERVAL;VALUE=DURATION:PT1H
X-Robots-Tag:noindex
X-PUBLISHED-TTL:PT1H
BEGIN:VTIMEZONE
TZID:America/New_York
BEGIN:DAYLIGHT
TZOFFSETFROM:-0500
TZOFFSETTO:-0400
TZNAME:EDT
DTSTART:20200308T070000
END:DAYLIGHT
BEGIN:STANDARD
TZOFFSETFROM:-0400
TZOFFSETTO:-0500
TZNAME:EST
DTSTART:20201101T060000
END:STANDARD
BEGIN:DAYLIGHT
TZOFFSETFROM:-0500
TZOFFSETTO:-0400
TZNAME:EDT
DTSTART:20210314T070000
END:DAYLIGHT
BEGIN:STANDARD
TZOFFSETFROM:-0400
TZOFFSETTO:-0500
TZNAME:EST
DTSTART:20211107T060000
END:STANDARD
BEGIN:DAYLIGHT
TZOFFSETFROM:-0500
TZOFFSETTO:-0400
TZNAME:EDT
DTSTART:20220313T070000
END:DAYLIGHT
BEGIN:STANDARD
TZOFFSETFROM:-0400
TZOFFSETTO:-0500
TZNAME:EST
DTSTART:20221106T060000
END:STANDARD
BEGIN:DAYLIGHT
TZOFFSETFROM:-0500
TZOFFSETTO:-0400
TZNAME:EDT
DTSTART:20230312T070000
END:DAYLIGHT
BEGIN:STANDARD
TZOFFSETFROM:-0400
TZOFFSETTO:-0500
TZNAME:EST
DTSTART:20231105T060000
END:STANDARD
BEGIN:DAYLIGHT
TZOFFSETFROM:-0500
TZOFFSETTO:-0400
TZNAME:EDT
DTSTART:20240310T070000
END:DAYLIGHT
BEGIN:STANDARD
TZOFFSETFROM:-0400
TZOFFSETTO:-0500
TZNAME:EST
DTSTART:20241103T060000
END:STANDARD
END:VTIMEZONE
BEGIN:VEVENT
DTSTART;VALUE=DATE:20231106
DTEND;VALUE=DATE:20231112
DTSTAMP:20260423T224232
CREATED:20231114T143130Z
LAST-MODIFIED:20231126T164018Z
UID:13206-1699228800-1699747199@www.allstarbrass.org
SUMMARY:Phone Calls to Successful Nominees
DESCRIPTION:
URL:https://www.allstarbrass.org/event/phone-calls-to-successful-nominees/
CATEGORIES:Auditions
ORGANIZER;CN="Dr. Eric Aho":MAILTO:director@allstarbrass.org
END:VEVENT
BEGIN:VEVENT
DTSTART;TZID=America/New_York:20231105T120000
DTEND;TZID=America/New_York:20231105T170000
DTSTAMP:20260423T224232
CREATED:20230927T185847Z
LAST-MODIFIED:20231126T164018Z
UID:12996-1699185600-1699203600@www.allstarbrass.org
SUMMARY:Conflict Audition 2023
DESCRIPTION:Those unable to audition on our official date of November 4\, 2023\, can request a conflict audition by appointment with Dr. Aho. Other options may be available on an individualized basis subject to Dr. Aho’s availability.
URL:https://www.allstarbrass.org/event/conflict-audition-2023/
LOCATION:Indianola Presbyterian Church\, 1970 Waldeck Ave.\, Columbus\, OH\, 43201\, United States
CATEGORIES:Auditions
ORGANIZER;CN="Dr. Eric Aho":MAILTO:director@allstarbrass.org
END:VEVENT
BEGIN:VEVENT
DTSTART;TZID=America/New_York:20231104T090000
DTEND;TZID=America/New_York:20231104T154500
DTSTAMP:20260423T224232
CREATED:20230927T185450Z
LAST-MODIFIED:20231126T164019Z
UID:12988-1699088400-1699112700@www.allstarbrass.org
SUMMARY:Auditions 2023
DESCRIPTION:Those nominated will be contacted by All-Star Staff to set up a specific audition time slot. \nAnyone with a conflict can request their audition by appointment with Dr. Aho on our Conflict Audition date Sunday\, November 5\, 2023.  Time TBD.
URL:https://www.allstarbrass.org/event/auditions-2023/
LOCATION:Indianola Presbyterian Church\, 1970 Waldeck Ave.\, Columbus\, OH\, 43201\, United States
CATEGORIES:Auditions
ORGANIZER;CN="Dr. Eric Aho":MAILTO:director@allstarbrass.org
END:VEVENT
BEGIN:VEVENT
DTSTART;TZID=America/New_York:20221105T090000
DTEND;TZID=America/New_York:20221105T160000
DTSTAMP:20260423T224232
CREATED:20211022T011320Z
LAST-MODIFIED:20231126T164024Z
UID:12268-1667638800-1667664000@www.allstarbrass.org
SUMMARY:Audition Date - All Grades
DESCRIPTION:Nominees will be contacted with an audition time. \nIf there is a conflict with the audition day\, nominees may make arrangements to audition on Sunday\, November 6 \nSee Audition Requirements and Download Music\, if needed to prepare. \nNote:  Auditions are friendly and conducted in a manner\, not unlike a private music lesson.  Relax and do your best – play audition selections that you can play well and optimize your strengths.  Do study your scales!
URL:https://www.allstarbrass.org/event/audition-date-all-grades/
CATEGORIES:Auditions
END:VEVENT
BEGIN:VEVENT
DTSTART;VALUE=DATE:20211108
DTEND;VALUE=DATE:20211114
DTSTAMP:20260423T224232
CREATED:20211022T012314Z
LAST-MODIFIED:20231126T164026Z
UID:12274-1636329600-1636847999@www.allstarbrass.org
SUMMARY:Phone calls to successful nominees 2021
DESCRIPTION:Phone calls to successful nominees with notification of which band they are placed with and to commence with our first rehearsal on Sunday\, November 14\, 2021. \n\nVarsity Band = 1:00-3:15pm\nASBP (All-Star Brass & Percussion) = 4:00-6:15pm
URL:https://www.allstarbrass.org/event/phone-calls-to-successful-nominees-2021/
CATEGORIES:Auditions
END:VEVENT
BEGIN:VEVENT
DTSTART;TZID=America/New_York:20211107T130000
DTEND;TZID=America/New_York:20211107T150000
DTSTAMP:20260423T224232
CREATED:20211022T011457Z
LAST-MODIFIED:20231126T164026Z
UID:12270-1636290000-1636297200@www.allstarbrass.org
SUMMARY:Conflict Audition Date 2021
DESCRIPTION:If there is a conflict with the audition day\, nominees may make arrangements to audition on Monday\, November 7.  Time and location TBA.  Tentatively set as noted at our rehearsal venue\, but subject to change.
URL:https://www.allstarbrass.org/event/conflict-audition-date-2021/
LOCATION:UALC @ Mill Run\, 3500 Mill Run Dr\, Hilliard\, OH\, 43026
CATEGORIES:Auditions
END:VEVENT
END:VCALENDAR