BEGIN:VCALENDAR
VERSION:2.0
PRODID:-//All-Star Brass Bands - ECPv6.15.19//NONSGML v1.0//EN
CALSCALE:GREGORIAN
METHOD:PUBLISH
X-ORIGINAL-URL:https://www.allstarbrass.org
X-WR-CALDESC:Events for All-Star Brass Bands
REFRESH-INTERVAL;VALUE=DURATION:PT1H
X-Robots-Tag:noindex
X-PUBLISHED-TTL:PT1H
BEGIN:VTIMEZONE
TZID:America/New_York
BEGIN:DAYLIGHT
TZOFFSETFROM:-0500
TZOFFSETTO:-0400
TZNAME:EDT
DTSTART:20220313T070000
END:DAYLIGHT
BEGIN:STANDARD
TZOFFSETFROM:-0400
TZOFFSETTO:-0500
TZNAME:EST
DTSTART:20221106T060000
END:STANDARD
BEGIN:DAYLIGHT
TZOFFSETFROM:-0500
TZOFFSETTO:-0400
TZNAME:EDT
DTSTART:20230312T070000
END:DAYLIGHT
BEGIN:STANDARD
TZOFFSETFROM:-0400
TZOFFSETTO:-0500
TZNAME:EST
DTSTART:20231105T060000
END:STANDARD
BEGIN:DAYLIGHT
TZOFFSETFROM:-0500
TZOFFSETTO:-0400
TZNAME:EDT
DTSTART:20240310T070000
END:DAYLIGHT
BEGIN:STANDARD
TZOFFSETFROM:-0400
TZOFFSETTO:-0500
TZNAME:EST
DTSTART:20241103T060000
END:STANDARD
END:VTIMEZONE
BEGIN:VEVENT
DTSTART;TZID=America/New_York:20231119T130000
DTEND;TZID=America/New_York:20231119T150000
DTSTAMP:20260423T230929
CREATED:20231125T210003Z
LAST-MODIFIED:20231126T164016Z
UID:13421-1700398800-1700406000@www.allstarbrass.org
SUMMARY:Collegiate Rehearsals
DESCRIPTION:Note that the Rehearsal location on December 10 is TBD.
URL:https://www.allstarbrass.org/event/collegiate-rehearsal/
LOCATION:Indianola Presbyterian Church\, 1970 Waldeck Ave.\, Columbus\, OH\, 43201\, United States
CATEGORIES:Collegiate All-Stars
ORGANIZER;CN="Dr. Eric Aho":MAILTO:director@allstarbrass.org
END:VEVENT
BEGIN:VEVENT
DTSTART;TZID=America/New_York:20231119T130000
DTEND;TZID=America/New_York:20231119T150000
DTSTAMP:20260423T230929
CREATED:20231125T210003Z
LAST-MODIFIED:20231126T164016Z
UID:13421-1700398800-1700406000@www.allstarbrass.org
SUMMARY:Collegiate Rehearsals
DESCRIPTION:Note that the Rehearsal location on December 10 is TBD.
URL:https://www.allstarbrass.org/event/collegiate-rehearsal/
LOCATION:Indianola Presbyterian Church\, 1970 Waldeck Ave.\, Columbus\, OH\, 43201\, United States
CATEGORIES:Collegiate All-Stars
ORGANIZER;CN="Dr. Eric Aho":MAILTO:director@allstarbrass.org
END:VEVENT
BEGIN:VEVENT
DTSTART;TZID=America/New_York:20231119T130000
DTEND;TZID=America/New_York:20231119T150000
DTSTAMP:20260423T230929
CREATED:20231125T210003Z
LAST-MODIFIED:20231126T164016Z
UID:13421-1700398800-1700406000@www.allstarbrass.org
SUMMARY:Collegiate Rehearsals
DESCRIPTION:Note that the Rehearsal location on December 10 is TBD.
URL:https://www.allstarbrass.org/event/collegiate-rehearsal/
LOCATION:Indianola Presbyterian Church\, 1970 Waldeck Ave.\, Columbus\, OH\, 43201\, United States
CATEGORIES:Collegiate All-Stars
ORGANIZER;CN="Dr. Eric Aho":MAILTO:director@allstarbrass.org
END:VEVENT
BEGIN:VEVENT
DTSTART;TZID=America/New_York:20231119T130000
DTEND;TZID=America/New_York:20231119T150000
DTSTAMP:20260423T230929
CREATED:20231125T210003Z
LAST-MODIFIED:20231126T164016Z
UID:13421-1700398800-1700406000@www.allstarbrass.org
SUMMARY:Collegiate Rehearsals
DESCRIPTION:Note that the Rehearsal location on December 10 is TBD.
URL:https://www.allstarbrass.org/event/collegiate-rehearsal/
LOCATION:Indianola Presbyterian Church\, 1970 Waldeck Ave.\, Columbus\, OH\, 43201\, United States
CATEGORIES:Collegiate All-Stars
ORGANIZER;CN="Dr. Eric Aho":MAILTO:director@allstarbrass.org
END:VEVENT
BEGIN:VEVENT
DTSTART;TZID=America/New_York:20231119T130000
DTEND;TZID=America/New_York:20231119T150000
DTSTAMP:20260423T230929
CREATED:20231125T210003Z
LAST-MODIFIED:20231126T164016Z
UID:13421-1700398800-1700406000@www.allstarbrass.org
SUMMARY:Collegiate Rehearsals
DESCRIPTION:Note that the Rehearsal location on December 10 is TBD.
URL:https://www.allstarbrass.org/event/collegiate-rehearsal/
LOCATION:Indianola Presbyterian Church\, 1970 Waldeck Ave.\, Columbus\, OH\, 43201\, United States
CATEGORIES:Collegiate All-Stars
ORGANIZER;CN="Dr. Eric Aho":MAILTO:director@allstarbrass.org
END:VEVENT
BEGIN:VEVENT
DTSTART;TZID=America/New_York:20231119T130000
DTEND;TZID=America/New_York:20231119T150000
DTSTAMP:20260423T230929
CREATED:20231125T210003Z
LAST-MODIFIED:20231126T164016Z
UID:13421-1700398800-1700406000@www.allstarbrass.org
SUMMARY:Collegiate Rehearsals
DESCRIPTION:Note that the Rehearsal location on December 10 is TBD.
URL:https://www.allstarbrass.org/event/collegiate-rehearsal/
LOCATION:Indianola Presbyterian Church\, 1970 Waldeck Ave.\, Columbus\, OH\, 43201\, United States
CATEGORIES:Collegiate All-Stars
ORGANIZER;CN="Dr. Eric Aho":MAILTO:director@allstarbrass.org
END:VEVENT
END:VCALENDAR