BEGIN:VCALENDAR
VERSION:2.0
PRODID:-//All-Star Brass Bands - ECPv6.15.19//NONSGML v1.0//EN
CALSCALE:GREGORIAN
METHOD:PUBLISH
X-ORIGINAL-URL:https://www.allstarbrass.org
X-WR-CALDESC:Events for All-Star Brass Bands
REFRESH-INTERVAL;VALUE=DURATION:PT1H
X-Robots-Tag:noindex
X-PUBLISHED-TTL:PT1H
BEGIN:VTIMEZONE
TZID:America/New_York
BEGIN:DAYLIGHT
TZOFFSETFROM:-0500
TZOFFSETTO:-0400
TZNAME:EDT
DTSTART:20210314T070000
END:DAYLIGHT
BEGIN:STANDARD
TZOFFSETFROM:-0400
TZOFFSETTO:-0500
TZNAME:EST
DTSTART:20211107T060000
END:STANDARD
BEGIN:DAYLIGHT
TZOFFSETFROM:-0500
TZOFFSETTO:-0400
TZNAME:EDT
DTSTART:20220313T070000
END:DAYLIGHT
BEGIN:STANDARD
TZOFFSETFROM:-0400
TZOFFSETTO:-0500
TZNAME:EST
DTSTART:20221106T060000
END:STANDARD
BEGIN:DAYLIGHT
TZOFFSETFROM:-0500
TZOFFSETTO:-0400
TZNAME:EDT
DTSTART:20230312T070000
END:DAYLIGHT
BEGIN:STANDARD
TZOFFSETFROM:-0400
TZOFFSETTO:-0500
TZNAME:EST
DTSTART:20231105T060000
END:STANDARD
BEGIN:DAYLIGHT
TZOFFSETFROM:-0500
TZOFFSETTO:-0400
TZNAME:EDT
DTSTART:20240310T070000
END:DAYLIGHT
BEGIN:STANDARD
TZOFFSETFROM:-0400
TZOFFSETTO:-0500
TZNAME:EST
DTSTART:20241103T060000
END:STANDARD
END:VTIMEZONE
BEGIN:VEVENT
DTSTART;TZID=America/New_York:20230926T080000
DTEND;TZID=America/New_York:20231026T170000
DTSTAMP:20260423T205725
CREATED:20230927T182026Z
LAST-MODIFIED:20231126T164019Z
UID:12980-1695715200-1698339600@www.allstarbrass.org
SUMMARY:Nominations 2023
DESCRIPTION:All-Star Nominations for the 2023-2024 Season\nNominate new All-Star Candidates or All-Star Veterans can Self-Nominate for an audition slot. \nDeadline for receipt of nominations is noon October 26\, 2023 \nSee more information on the Nominations page. \nAccess the Nomination Form now.
URL:https://www.allstarbrass.org/event/nominations-2023/
CATEGORIES:Nominations
ORGANIZER;CN="Dr. Eric Aho":MAILTO:director@allstarbrass.org
END:VEVENT
BEGIN:VEVENT
DTSTART;TZID=America/New_York:20221027T000000
DTEND;TZID=America/New_York:20221027T235900
DTSTAMP:20260423T205725
CREATED:20211022T011028Z
LAST-MODIFIED:20231126T164024Z
UID:12266-1666828800-1666915140@www.allstarbrass.org
SUMMARY:Deadline for Nominations 2022
DESCRIPTION:Annually\, All-Star Brass Band veterans and prospective members must be nominated. Veterans can self-nominate\, but prospective members must be nominated by their band director\, music teacher (private)\, or All-Star veteran. Nominations can be by mail (complete and mail the form below) or with our online form. \nNominations are closed - thank you for interest and support. You may contact Dr. Eric Aho (director@allstarbrass.org) with any questions or to see if we anticipate openings to allow additional nominations.
URL:https://www.allstarbrass.org/event/deadline-for-nominations-2021/
CATEGORIES:Nominations
END:VEVENT
END:VCALENDAR