BEGIN:VCALENDAR
VERSION:2.0
PRODID:-//All-Star Brass Bands - ECPv6.15.19//NONSGML v1.0//EN
CALSCALE:GREGORIAN
METHOD:PUBLISH
X-ORIGINAL-URL:https://www.allstarbrass.org
X-WR-CALDESC:Events for All-Star Brass Bands
REFRESH-INTERVAL;VALUE=DURATION:PT1H
X-Robots-Tag:noindex
X-PUBLISHED-TTL:PT1H
BEGIN:VTIMEZONE
TZID:America/New_York
BEGIN:DAYLIGHT
TZOFFSETFROM:-0500
TZOFFSETTO:-0400
TZNAME:EDT
DTSTART:20210314T070000
END:DAYLIGHT
BEGIN:STANDARD
TZOFFSETFROM:-0400
TZOFFSETTO:-0500
TZNAME:EST
DTSTART:20211107T060000
END:STANDARD
BEGIN:DAYLIGHT
TZOFFSETFROM:-0500
TZOFFSETTO:-0400
TZNAME:EDT
DTSTART:20220313T070000
END:DAYLIGHT
BEGIN:STANDARD
TZOFFSETFROM:-0400
TZOFFSETTO:-0500
TZNAME:EST
DTSTART:20221106T060000
END:STANDARD
BEGIN:DAYLIGHT
TZOFFSETFROM:-0500
TZOFFSETTO:-0400
TZNAME:EDT
DTSTART:20230312T070000
END:DAYLIGHT
BEGIN:STANDARD
TZOFFSETFROM:-0400
TZOFFSETTO:-0500
TZNAME:EST
DTSTART:20231105T060000
END:STANDARD
BEGIN:DAYLIGHT
TZOFFSETFROM:-0500
TZOFFSETTO:-0400
TZNAME:EDT
DTSTART:20240310T070000
END:DAYLIGHT
BEGIN:STANDARD
TZOFFSETFROM:-0400
TZOFFSETTO:-0500
TZNAME:EST
DTSTART:20241103T060000
END:STANDARD
BEGIN:DAYLIGHT
TZOFFSETFROM:-0500
TZOFFSETTO:-0400
TZNAME:EDT
DTSTART:20250309T070000
END:DAYLIGHT
BEGIN:STANDARD
TZOFFSETFROM:-0400
TZOFFSETTO:-0500
TZNAME:EST
DTSTART:20251102T060000
END:STANDARD
END:VTIMEZONE
BEGIN:VEVENT
DTSTART;TZID=America/New_York:20240426T170000
DTEND;TZID=America/New_York:20240426T220000
DTSTAMP:20260423T181153
CREATED:20231125T211643Z
LAST-MODIFIED:20231126T164013Z
UID:13430-1714150800-1714168800@www.allstarbrass.org
SUMMARY:Dinner Theatre Rehearsal & Set Up
DESCRIPTION:Time and Location TBD
URL:https://www.allstarbrass.org/event/dinner-theatre-rehearsal-set-up/
CATEGORIES:ASBP Band Rehearsal,Varsity Band Rehearsals
ORGANIZER;CN="Dr. Eric Aho":MAILTO:director@allstarbrass.org
END:VEVENT
BEGIN:VEVENT
DTSTART;TZID=America/New_York:20240217T080000
DTEND;TZID=America/New_York:20240217T170000
DTSTAMP:20260423T181153
CREATED:20231125T211243Z
LAST-MODIFIED:20231126T164015Z
UID:13426-1708156800-1708189200@www.allstarbrass.org
SUMMARY:Dress Rehearsal\, Location TBD
DESCRIPTION:Dress Rehearsal for Concert Time & Location TBD \nLast update: Nov 8\, 2023
URL:https://www.allstarbrass.org/event/dress-rehearsal-location-tbd/
LOCATION:UALC @ Mill Run\, 3500 Mill Run Dr\, Hilliard\, OH\, 43026
CATEGORIES:ASBP Band Rehearsal,Varsity Band Rehearsals
ORGANIZER;CN="Dr. Eric Aho":MAILTO:director@allstarbrass.org
END:VEVENT
BEGIN:VEVENT
DTSTART;TZID=America/New_York:20230428T190000
DTEND;TZID=America/New_York:20230428T210000
DTSTAMP:20260423T181153
CREATED:20211022T014251Z
LAST-MODIFIED:20231126T164021Z
UID:12291-1682708400-1682715600@www.allstarbrass.org
SUMMARY:Dinner Theatre Varsity Rehearsal
DESCRIPTION:
URL:https://www.allstarbrass.org/event/dinner-theatre-varsity-rehearsal/
CATEGORIES:JV Band Rehearsals,Varsity Band Rehearsals
END:VEVENT
BEGIN:VEVENT
DTSTART;TZID=America/New_York:20221113T130000
DTEND;TZID=America/New_York:20221113T151500
DTSTAMP:20260423T181153
CREATED:20211022T012728Z
LAST-MODIFIED:20231126T164023Z
UID:12276-1668344400-1668352500@www.allstarbrass.org
SUMMARY:1st Rehearsal (Varsity)
DESCRIPTION:Initial rehearsal of Varsity Band. \nTo be early is to be on time! \nBring a pencil.  Members will receive their seating\, instrument\, and music folder.
URL:https://www.allstarbrass.org/event/1st-rehearsal-varsity/
CATEGORIES:Varsity Band Rehearsals
ORGANIZER;CN="Dr. Eric Aho":MAILTO:director@allstarbrass.org
END:VEVENT
END:VCALENDAR