BEGIN:VCALENDAR
VERSION:2.0
PRODID:-//All-Star Brass Bands - ECPv6.15.19//NONSGML v1.0//EN
CALSCALE:GREGORIAN
METHOD:PUBLISH
X-WR-CALNAME:All-Star Brass Bands
X-ORIGINAL-URL:https://www.allstarbrass.org
X-WR-CALDESC:Events for All-Star Brass Bands
REFRESH-INTERVAL;VALUE=DURATION:PT1H
X-Robots-Tag:noindex
X-PUBLISHED-TTL:PT1H
BEGIN:VTIMEZONE
TZID:America/New_York
BEGIN:DAYLIGHT
TZOFFSETFROM:-0500
TZOFFSETTO:-0400
TZNAME:EDT
DTSTART:20220313T070000
END:DAYLIGHT
BEGIN:STANDARD
TZOFFSETFROM:-0400
TZOFFSETTO:-0500
TZNAME:EST
DTSTART:20221106T060000
END:STANDARD
BEGIN:DAYLIGHT
TZOFFSETFROM:-0500
TZOFFSETTO:-0400
TZNAME:EDT
DTSTART:20230312T070000
END:DAYLIGHT
BEGIN:STANDARD
TZOFFSETFROM:-0400
TZOFFSETTO:-0500
TZNAME:EST
DTSTART:20231105T060000
END:STANDARD
BEGIN:DAYLIGHT
TZOFFSETFROM:-0500
TZOFFSETTO:-0400
TZNAME:EDT
DTSTART:20240310T070000
END:DAYLIGHT
BEGIN:STANDARD
TZOFFSETFROM:-0400
TZOFFSETTO:-0500
TZNAME:EST
DTSTART:20241103T060000
END:STANDARD
BEGIN:DAYLIGHT
TZOFFSETFROM:-0500
TZOFFSETTO:-0400
TZNAME:EDT
DTSTART:20250309T070000
END:DAYLIGHT
BEGIN:STANDARD
TZOFFSETFROM:-0400
TZOFFSETTO:-0500
TZNAME:EST
DTSTART:20251102T060000
END:STANDARD
END:VTIMEZONE
BEGIN:VEVENT
DTSTART;VALUE=DATE:20240710
DTEND;VALUE=DATE:20240715
DTSTAMP:20260423T163612
CREATED:20231125T212231Z
LAST-MODIFIED:20231126T164009Z
UID:13436-1720569600-1721001599@www.allstarbrass.org
SUMMARY:Goodguys Car Show Fundraiser (Required)
DESCRIPTION:
URL:https://www.allstarbrass.org/event/goodguys-car-show-fundraiser-required/
CATEGORIES:Fundraiser Campaign
ORGANIZER;CN="Dr. Eric Aho":MAILTO:director@allstarbrass.org
END:VEVENT
BEGIN:VEVENT
DTSTART;VALUE=DATE:20240602
DTEND;VALUE=DATE:20240615
DTSTAMP:20260423T163612
CREATED:20231125T212020Z
LAST-MODIFIED:20231126T164011Z
UID:13434-1717286400-1718409599@www.allstarbrass.org
SUMMARY:ASBP Summer Tour
DESCRIPTION:Tentative Dates and Location TBD
URL:https://www.allstarbrass.org/event/asbp-summer-tour/
CATEGORIES:Tour
ORGANIZER;CN="Dr. Eric Aho":MAILTO:director@allstarbrass.org
END:VEVENT
BEGIN:VEVENT
DTSTART;TZID=America/New_York:20240427T170000
DTEND;TZID=America/New_York:20240427T220000
DTSTAMP:20260423T163612
CREATED:20231125T211835Z
LAST-MODIFIED:20231126T164012Z
UID:13432-1714237200-1714255200@www.allstarbrass.org
SUMMARY:Dinner Theatre
DESCRIPTION:Time and Location TBD
URL:https://www.allstarbrass.org/event/dinner-theatre-2/
LOCATION:UALC @ Mill Run\, 3500 Mill Run Dr\, Hilliard\, OH\, 43026
CATEGORIES:Concert
ORGANIZER;CN="Dr. Eric Aho":MAILTO:director@allstarbrass.org
END:VEVENT
BEGIN:VEVENT
DTSTART;TZID=America/New_York:20240426T170000
DTEND;TZID=America/New_York:20240426T220000
DTSTAMP:20260423T163612
CREATED:20231125T211643Z
LAST-MODIFIED:20231126T164013Z
UID:13430-1714150800-1714168800@www.allstarbrass.org
SUMMARY:Dinner Theatre Rehearsal & Set Up
DESCRIPTION:Time and Location TBD
URL:https://www.allstarbrass.org/event/dinner-theatre-rehearsal-set-up/
CATEGORIES:ASBP Band Rehearsal,Varsity Band Rehearsals
ORGANIZER;CN="Dr. Eric Aho":MAILTO:director@allstarbrass.org
END:VEVENT
BEGIN:VEVENT
DTSTART;TZID=America/New_York:20231119T160000
DTEND;TZID=America/New_York:20231119T181500
DTSTAMP:20260423T163612
CREATED:20231125T205816Z
LAST-MODIFIED:20231126T164016Z
UID:13418-1700409600-1700417700@www.allstarbrass.org
SUMMARY:ASBP Rehearsal
DESCRIPTION:Note that the Rehearsal location on December 10 is TBD.
URL:https://www.allstarbrass.org/event/asbp-rehearsal/
LOCATION:Indianola Presbyterian Church\, 1970 Waldeck Ave.\, Columbus\, OH\, 43201\, United States
CATEGORIES:ASBP Band Rehearsal
ORGANIZER;CN="Dr. Eric Aho":MAILTO:director@allstarbrass.org
END:VEVENT
BEGIN:VEVENT
DTSTART;TZID=America/New_York:20231119T130000
DTEND;TZID=America/New_York:20231119T150000
DTSTAMP:20260423T163612
CREATED:20231125T210003Z
LAST-MODIFIED:20231126T164016Z
UID:13421-1700398800-1700406000@www.allstarbrass.org
SUMMARY:Collegiate Rehearsals
DESCRIPTION:Note that the Rehearsal location on December 10 is TBD.
URL:https://www.allstarbrass.org/event/collegiate-rehearsal/
LOCATION:Indianola Presbyterian Church\, 1970 Waldeck Ave.\, Columbus\, OH\, 43201\, United States
CATEGORIES:Collegiate All-Stars
ORGANIZER;CN="Dr. Eric Aho":MAILTO:director@allstarbrass.org
END:VEVENT
BEGIN:VEVENT
DTSTART;TZID=America/New_York:20231119T160000
DTEND;TZID=America/New_York:20231119T181500
DTSTAMP:20260423T163612
CREATED:20231125T205816Z
LAST-MODIFIED:20231126T164016Z
UID:13418-1700409600-1700417700@www.allstarbrass.org
SUMMARY:ASBP Rehearsal
DESCRIPTION:Note that the Rehearsal location on December 10 is TBD.
URL:https://www.allstarbrass.org/event/asbp-rehearsal/
LOCATION:Indianola Presbyterian Church\, 1970 Waldeck Ave.\, Columbus\, OH\, 43201\, United States
CATEGORIES:ASBP Band Rehearsal
ORGANIZER;CN="Dr. Eric Aho":MAILTO:director@allstarbrass.org
END:VEVENT
BEGIN:VEVENT
DTSTART;TZID=America/New_York:20231119T130000
DTEND;TZID=America/New_York:20231119T150000
DTSTAMP:20260423T163612
CREATED:20231125T210003Z
LAST-MODIFIED:20231126T164016Z
UID:13421-1700398800-1700406000@www.allstarbrass.org
SUMMARY:Collegiate Rehearsals
DESCRIPTION:Note that the Rehearsal location on December 10 is TBD.
URL:https://www.allstarbrass.org/event/collegiate-rehearsal/
LOCATION:Indianola Presbyterian Church\, 1970 Waldeck Ave.\, Columbus\, OH\, 43201\, United States
CATEGORIES:Collegiate All-Stars
ORGANIZER;CN="Dr. Eric Aho":MAILTO:director@allstarbrass.org
END:VEVENT
BEGIN:VEVENT
DTSTART;TZID=America/New_York:20231119T160000
DTEND;TZID=America/New_York:20231119T181500
DTSTAMP:20260423T163612
CREATED:20231125T205816Z
LAST-MODIFIED:20231126T164016Z
UID:13418-1700409600-1700417700@www.allstarbrass.org
SUMMARY:ASBP Rehearsal
DESCRIPTION:Note that the Rehearsal location on December 10 is TBD.
URL:https://www.allstarbrass.org/event/asbp-rehearsal/
LOCATION:Indianola Presbyterian Church\, 1970 Waldeck Ave.\, Columbus\, OH\, 43201\, United States
CATEGORIES:ASBP Band Rehearsal
ORGANIZER;CN="Dr. Eric Aho":MAILTO:director@allstarbrass.org
END:VEVENT
BEGIN:VEVENT
DTSTART;TZID=America/New_York:20231119T130000
DTEND;TZID=America/New_York:20231119T150000
DTSTAMP:20260423T163612
CREATED:20231125T210003Z
LAST-MODIFIED:20231126T164016Z
UID:13421-1700398800-1700406000@www.allstarbrass.org
SUMMARY:Collegiate Rehearsals
DESCRIPTION:Note that the Rehearsal location on December 10 is TBD.
URL:https://www.allstarbrass.org/event/collegiate-rehearsal/
LOCATION:Indianola Presbyterian Church\, 1970 Waldeck Ave.\, Columbus\, OH\, 43201\, United States
CATEGORIES:Collegiate All-Stars
ORGANIZER;CN="Dr. Eric Aho":MAILTO:director@allstarbrass.org
END:VEVENT
BEGIN:VEVENT
DTSTART;TZID=America/New_York:20231119T160000
DTEND;TZID=America/New_York:20231119T181500
DTSTAMP:20260423T163612
CREATED:20231125T205816Z
LAST-MODIFIED:20231126T164016Z
UID:13418-1700409600-1700417700@www.allstarbrass.org
SUMMARY:ASBP Rehearsal
DESCRIPTION:Note that the Rehearsal location on December 10 is TBD.
URL:https://www.allstarbrass.org/event/asbp-rehearsal/
LOCATION:Indianola Presbyterian Church\, 1970 Waldeck Ave.\, Columbus\, OH\, 43201\, United States
CATEGORIES:ASBP Band Rehearsal
ORGANIZER;CN="Dr. Eric Aho":MAILTO:director@allstarbrass.org
END:VEVENT
BEGIN:VEVENT
DTSTART;TZID=America/New_York:20231119T130000
DTEND;TZID=America/New_York:20231119T150000
DTSTAMP:20260423T163612
CREATED:20231125T210003Z
LAST-MODIFIED:20231126T164016Z
UID:13421-1700398800-1700406000@www.allstarbrass.org
SUMMARY:Collegiate Rehearsals
DESCRIPTION:Note that the Rehearsal location on December 10 is TBD.
URL:https://www.allstarbrass.org/event/collegiate-rehearsal/
LOCATION:Indianola Presbyterian Church\, 1970 Waldeck Ave.\, Columbus\, OH\, 43201\, United States
CATEGORIES:Collegiate All-Stars
ORGANIZER;CN="Dr. Eric Aho":MAILTO:director@allstarbrass.org
END:VEVENT
BEGIN:VEVENT
DTSTART;TZID=America/New_York:20231119T160000
DTEND;TZID=America/New_York:20231119T181500
DTSTAMP:20260423T163612
CREATED:20231125T205816Z
LAST-MODIFIED:20231126T164016Z
UID:13418-1700409600-1700417700@www.allstarbrass.org
SUMMARY:ASBP Rehearsal
DESCRIPTION:Note that the Rehearsal location on December 10 is TBD.
URL:https://www.allstarbrass.org/event/asbp-rehearsal/
LOCATION:Indianola Presbyterian Church\, 1970 Waldeck Ave.\, Columbus\, OH\, 43201\, United States
CATEGORIES:ASBP Band Rehearsal
ORGANIZER;CN="Dr. Eric Aho":MAILTO:director@allstarbrass.org
END:VEVENT
BEGIN:VEVENT
DTSTART;TZID=America/New_York:20231119T130000
DTEND;TZID=America/New_York:20231119T150000
DTSTAMP:20260423T163612
CREATED:20231125T210003Z
LAST-MODIFIED:20231126T164016Z
UID:13421-1700398800-1700406000@www.allstarbrass.org
SUMMARY:Collegiate Rehearsals
DESCRIPTION:Note that the Rehearsal location on December 10 is TBD.
URL:https://www.allstarbrass.org/event/collegiate-rehearsal/
LOCATION:Indianola Presbyterian Church\, 1970 Waldeck Ave.\, Columbus\, OH\, 43201\, United States
CATEGORIES:Collegiate All-Stars
ORGANIZER;CN="Dr. Eric Aho":MAILTO:director@allstarbrass.org
END:VEVENT
BEGIN:VEVENT
DTSTART;TZID=America/New_York:20231119T160000
DTEND;TZID=America/New_York:20231119T181500
DTSTAMP:20260423T163612
CREATED:20231125T205816Z
LAST-MODIFIED:20231126T164016Z
UID:13418-1700409600-1700417700@www.allstarbrass.org
SUMMARY:ASBP Rehearsal
DESCRIPTION:Note that the Rehearsal location on December 10 is TBD.
URL:https://www.allstarbrass.org/event/asbp-rehearsal/
LOCATION:Indianola Presbyterian Church\, 1970 Waldeck Ave.\, Columbus\, OH\, 43201\, United States
CATEGORIES:ASBP Band Rehearsal
ORGANIZER;CN="Dr. Eric Aho":MAILTO:director@allstarbrass.org
END:VEVENT
BEGIN:VEVENT
DTSTART;TZID=America/New_York:20231119T130000
DTEND;TZID=America/New_York:20231119T150000
DTSTAMP:20260423T163612
CREATED:20231125T210003Z
LAST-MODIFIED:20231126T164016Z
UID:13421-1700398800-1700406000@www.allstarbrass.org
SUMMARY:Collegiate Rehearsals
DESCRIPTION:Note that the Rehearsal location on December 10 is TBD.
URL:https://www.allstarbrass.org/event/collegiate-rehearsal/
LOCATION:Indianola Presbyterian Church\, 1970 Waldeck Ave.\, Columbus\, OH\, 43201\, United States
CATEGORIES:Collegiate All-Stars
ORGANIZER;CN="Dr. Eric Aho":MAILTO:director@allstarbrass.org
END:VEVENT
BEGIN:VEVENT
DTSTART;TZID=America/New_York:20231119T160000
DTEND;TZID=America/New_York:20231119T181500
DTSTAMP:20260423T163612
CREATED:20231125T205816Z
LAST-MODIFIED:20231126T164016Z
UID:13418-1700409600-1700417700@www.allstarbrass.org
SUMMARY:ASBP Rehearsal
DESCRIPTION:Note that the Rehearsal location on December 10 is TBD.
URL:https://www.allstarbrass.org/event/asbp-rehearsal/
LOCATION:Indianola Presbyterian Church\, 1970 Waldeck Ave.\, Columbus\, OH\, 43201\, United States
CATEGORIES:ASBP Band Rehearsal
ORGANIZER;CN="Dr. Eric Aho":MAILTO:director@allstarbrass.org
END:VEVENT
BEGIN:VEVENT
DTSTART;TZID=America/New_York:20231119T130000
DTEND;TZID=America/New_York:20231119T150000
DTSTAMP:20260423T163612
CREATED:20231125T210003Z
LAST-MODIFIED:20231126T164016Z
UID:13421-1700398800-1700406000@www.allstarbrass.org
SUMMARY:Collegiate Rehearsals
DESCRIPTION:Note that the Rehearsal location on December 10 is TBD.
URL:https://www.allstarbrass.org/event/collegiate-rehearsal/
LOCATION:Indianola Presbyterian Church\, 1970 Waldeck Ave.\, Columbus\, OH\, 43201\, United States
CATEGORIES:Collegiate All-Stars
ORGANIZER;CN="Dr. Eric Aho":MAILTO:director@allstarbrass.org
END:VEVENT
BEGIN:VEVENT
DTSTART;TZID=America/New_York:20231119T160000
DTEND;TZID=America/New_York:20231119T181500
DTSTAMP:20260423T163612
CREATED:20231125T205816Z
LAST-MODIFIED:20231126T164016Z
UID:13418-1700409600-1700417700@www.allstarbrass.org
SUMMARY:ASBP Rehearsal
DESCRIPTION:Note that the Rehearsal location on December 10 is TBD.
URL:https://www.allstarbrass.org/event/asbp-rehearsal/
LOCATION:Indianola Presbyterian Church\, 1970 Waldeck Ave.\, Columbus\, OH\, 43201\, United States
CATEGORIES:ASBP Band Rehearsal
ORGANIZER;CN="Dr. Eric Aho":MAILTO:director@allstarbrass.org
END:VEVENT
BEGIN:VEVENT
DTSTART;TZID=America/New_York:20231119T130000
DTEND;TZID=America/New_York:20231119T150000
DTSTAMP:20260423T163612
CREATED:20231125T210003Z
LAST-MODIFIED:20231126T164016Z
UID:13421-1700398800-1700406000@www.allstarbrass.org
SUMMARY:Collegiate Rehearsals
DESCRIPTION:Note that the Rehearsal location on December 10 is TBD.
URL:https://www.allstarbrass.org/event/collegiate-rehearsal/
LOCATION:Indianola Presbyterian Church\, 1970 Waldeck Ave.\, Columbus\, OH\, 43201\, United States
CATEGORIES:Collegiate All-Stars
ORGANIZER;CN="Dr. Eric Aho":MAILTO:director@allstarbrass.org
END:VEVENT
BEGIN:VEVENT
DTSTART;TZID=America/New_York:20240218T150000
DTEND;TZID=America/New_York:20240218T170000
DTSTAMP:20260423T163612
CREATED:20231125T211423Z
LAST-MODIFIED:20231126T164014Z
UID:13428-1708268400-1708275600@www.allstarbrass.org
SUMMARY:Concert
DESCRIPTION:Concert Location is TBD
URL:https://www.allstarbrass.org/event/concert/
CATEGORIES:Concert
ORGANIZER;CN="Dr. Eric Aho":MAILTO:director@allstarbrass.org
END:VEVENT
BEGIN:VEVENT
DTSTART;TZID=America/New_York:20240217T080000
DTEND;TZID=America/New_York:20240217T170000
DTSTAMP:20260423T163612
CREATED:20231125T211243Z
LAST-MODIFIED:20231126T164015Z
UID:13426-1708156800-1708189200@www.allstarbrass.org
SUMMARY:Dress Rehearsal\, Location TBD
DESCRIPTION:Dress Rehearsal for Concert Time & Location TBD \nLast update: Nov 8\, 2023
URL:https://www.allstarbrass.org/event/dress-rehearsal-location-tbd/
LOCATION:UALC @ Mill Run\, 3500 Mill Run Dr\, Hilliard\, OH\, 43026
CATEGORIES:ASBP Band Rehearsal,Varsity Band Rehearsals
ORGANIZER;CN="Dr. Eric Aho":MAILTO:director@allstarbrass.org
END:VEVENT
BEGIN:VEVENT
DTSTART;TZID=America/New_York:20231119T160000
DTEND;TZID=America/New_York:20231119T181500
DTSTAMP:20260423T163612
CREATED:20231125T205816Z
LAST-MODIFIED:20231126T164016Z
UID:13418-1700409600-1700417700@www.allstarbrass.org
SUMMARY:ASBP Rehearsal
DESCRIPTION:Note that the Rehearsal location on December 10 is TBD.
URL:https://www.allstarbrass.org/event/asbp-rehearsal/
LOCATION:Indianola Presbyterian Church\, 1970 Waldeck Ave.\, Columbus\, OH\, 43201\, United States
CATEGORIES:ASBP Band Rehearsal
ORGANIZER;CN="Dr. Eric Aho":MAILTO:director@allstarbrass.org
END:VEVENT
BEGIN:VEVENT
DTSTART;TZID=America/New_York:20231119T130000
DTEND;TZID=America/New_York:20231119T150000
DTSTAMP:20260423T163612
CREATED:20231125T210003Z
LAST-MODIFIED:20231126T164016Z
UID:13421-1700398800-1700406000@www.allstarbrass.org
SUMMARY:Collegiate Rehearsals
DESCRIPTION:Note that the Rehearsal location on December 10 is TBD.
URL:https://www.allstarbrass.org/event/collegiate-rehearsal/
LOCATION:Indianola Presbyterian Church\, 1970 Waldeck Ave.\, Columbus\, OH\, 43201\, United States
CATEGORIES:Collegiate All-Stars
ORGANIZER;CN="Dr. Eric Aho":MAILTO:director@allstarbrass.org
END:VEVENT
BEGIN:VEVENT
DTSTART;TZID=America/New_York:20231119T160000
DTEND;TZID=America/New_York:20231119T181500
DTSTAMP:20260423T163612
CREATED:20231125T205816Z
LAST-MODIFIED:20231126T164016Z
UID:13418-1700409600-1700417700@www.allstarbrass.org
SUMMARY:ASBP Rehearsal
DESCRIPTION:Note that the Rehearsal location on December 10 is TBD.
URL:https://www.allstarbrass.org/event/asbp-rehearsal/
LOCATION:Indianola Presbyterian Church\, 1970 Waldeck Ave.\, Columbus\, OH\, 43201\, United States
CATEGORIES:ASBP Band Rehearsal
ORGANIZER;CN="Dr. Eric Aho":MAILTO:director@allstarbrass.org
END:VEVENT
BEGIN:VEVENT
DTSTART;TZID=America/New_York:20231119T130000
DTEND;TZID=America/New_York:20231119T150000
DTSTAMP:20260423T163612
CREATED:20231125T210003Z
LAST-MODIFIED:20231126T164016Z
UID:13421-1700398800-1700406000@www.allstarbrass.org
SUMMARY:Collegiate Rehearsals
DESCRIPTION:Note that the Rehearsal location on December 10 is TBD.
URL:https://www.allstarbrass.org/event/collegiate-rehearsal/
LOCATION:Indianola Presbyterian Church\, 1970 Waldeck Ave.\, Columbus\, OH\, 43201\, United States
CATEGORIES:Collegiate All-Stars
ORGANIZER;CN="Dr. Eric Aho":MAILTO:director@allstarbrass.org
END:VEVENT
BEGIN:VEVENT
DTSTART;TZID=America/New_York:20231119T160000
DTEND;TZID=America/New_York:20231119T181500
DTSTAMP:20260423T163612
CREATED:20231125T205816Z
LAST-MODIFIED:20231126T164016Z
UID:13418-1700409600-1700417700@www.allstarbrass.org
SUMMARY:ASBP Rehearsal
DESCRIPTION:Note that the Rehearsal location on December 10 is TBD.
URL:https://www.allstarbrass.org/event/asbp-rehearsal/
LOCATION:Indianola Presbyterian Church\, 1970 Waldeck Ave.\, Columbus\, OH\, 43201\, United States
CATEGORIES:ASBP Band Rehearsal
ORGANIZER;CN="Dr. Eric Aho":MAILTO:director@allstarbrass.org
END:VEVENT
BEGIN:VEVENT
DTSTART;TZID=America/New_York:20231119T130000
DTEND;TZID=America/New_York:20231119T150000
DTSTAMP:20260423T163612
CREATED:20231125T210003Z
LAST-MODIFIED:20231126T164016Z
UID:13421-1700398800-1700406000@www.allstarbrass.org
SUMMARY:Collegiate Rehearsals
DESCRIPTION:Note that the Rehearsal location on December 10 is TBD.
URL:https://www.allstarbrass.org/event/collegiate-rehearsal/
LOCATION:Indianola Presbyterian Church\, 1970 Waldeck Ave.\, Columbus\, OH\, 43201\, United States
CATEGORIES:Collegiate All-Stars
ORGANIZER;CN="Dr. Eric Aho":MAILTO:director@allstarbrass.org
END:VEVENT
BEGIN:VEVENT
DTSTART;TZID=America/New_York:20231119T130000
DTEND;TZID=America/New_York:20231119T150000
DTSTAMP:20260423T163612
CREATED:20231125T210003Z
LAST-MODIFIED:20231126T164016Z
UID:13421-1700398800-1700406000@www.allstarbrass.org
SUMMARY:Collegiate Rehearsals
DESCRIPTION:Note that the Rehearsal location on December 10 is TBD.
URL:https://www.allstarbrass.org/event/collegiate-rehearsal/
LOCATION:Indianola Presbyterian Church\, 1970 Waldeck Ave.\, Columbus\, OH\, 43201\, United States
CATEGORIES:Collegiate All-Stars
ORGANIZER;CN="Dr. Eric Aho":MAILTO:director@allstarbrass.org
END:VEVENT
BEGIN:VEVENT
DTSTART;VALUE=DATE:20240121
DTEND;VALUE=DATE:20240122
DTSTAMP:20260423T163612
CREATED:20231125T212417Z
LAST-MODIFIED:20231126T164015Z
UID:13438-1705795200-1705881599@www.allstarbrass.org
SUMMARY:OCAS Rehearsal
DESCRIPTION:Time\, Location & Participants TBD.
URL:https://www.allstarbrass.org/event/ocas-rehearsal/
CATEGORIES:ASBP Band Rehearsal
ORGANIZER;CN="Dr. Eric Aho":MAILTO:director@allstarbrass.org
END:VEVENT
END:VCALENDAR